BEGIN:VCALENDAR
VERSION:2.0
PRODID:-//adultdaycenter.org//NONSGML kigkonsult.se iCalcreator 2.30.10//
CALSCALE:GREGORIAN
METHOD:PUBLISH
UID:df898b7f-6f50-4541-b8b1-b0f44be59853
X-WR-CALDESC:The ADC will be closed for Labor Day on Monday\, September 2nd
 . We will resume our normal schedule on Tuesday\, September 3rd.
X-WR-RELCALID:ec5777ddc9398fa7bafed1954def4cdc
X-WR-TIMEZONE:America/New_York
BEGIN:VTIMEZONE
TZID:America/New_York
BEGIN:STANDARD
TZNAME:EST
DTSTART:20231105T020000
TZOFFSETFROM:-0400
TZOFFSETTO:-0500
RDATE:20241103T020000
RDATE:20251102T020000
END:STANDARD
BEGIN:DAYLIGHT
TZNAME:EDT
DTSTART:20240310T020000
TZOFFSETFROM:-0500
TZOFFSETTO:-0400
RDATE:20250309T020000
END:DAYLIGHT
END:VTIMEZONE
BEGIN:VEVENT
UID:48e1d47c-86bb-48c5-9197-cba0759f6742
DTSTAMP:20260422T174125Z
DESCRIPTION:The ADC will be closed for Labor Day on Monday\, September 2nd.
  We will resume our normal schedule on Tuesday\, September 3rd.
DTSTART;TZID=America/New_York:20240902T060000
DTEND;TZID=America/New_York:20240902T060001
LOCATION:
SUMMARY:Closed
END:VEVENT
END:VCALENDAR
