BEGIN:VCALENDAR
VERSION:2.0
PRODID:-//adultdaycenter.org//NONSGML kigkonsult.se iCalcreator 2.30.10//
CALSCALE:GREGORIAN
METHOD:PUBLISH
UID:12d1e6a6-b386-4aa5-ae4e-543ce803786d
X-WR-CALDESC:Join us for a family picnic at the ADC! Please RSVP with KSamp
 son@adultdaycenter.org no later than September 13th so that we may have ad
 equate amounts of refreshments.
X-WR-RELCALID:61eeae7dc4fb7eeb6d7821d31e80e16e
X-WR-TIMEZONE:America/New_York
BEGIN:VTIMEZONE
TZID:America/New_York
BEGIN:STANDARD
TZNAME:EST
DTSTART:20231105T020000
TZOFFSETFROM:-0400
TZOFFSETTO:-0500
RDATE:20241103T020000
RDATE:20251102T020000
END:STANDARD
BEGIN:DAYLIGHT
TZNAME:EDT
DTSTART:20240310T020000
TZOFFSETFROM:-0500
TZOFFSETTO:-0400
RDATE:20250309T020000
RDATE:20260308T020000
END:DAYLIGHT
END:VTIMEZONE
BEGIN:VEVENT
UID:717a7364-d6ae-4cd5-9d82-270b4938ff46
DTSTAMP:20260422T173545Z
DESCRIPTION:Join us for a family picnic at the ADC! Please RSVP with KSamps
 on@adultdaycenter.org no later than September 13th so that we may have ade
 quate amounts of refreshments.
DTSTART;TZID=America/New_York:20240920T120000
DTEND;TZID=America/New_York:20240920T140000
LOCATION:872 East Main Street\, Bridgewater\, NJ 08807 US
SUMMARY:Family Picnic
END:VEVENT
END:VCALENDAR
