BEGIN:VCALENDAR
VERSION:2.0
PRODID:-//adultdaycenter.org//NONSGML kigkonsult.se iCalcreator 2.30.10//
CALSCALE:GREGORIAN
METHOD:PUBLISH
UID:eb62c5e3-f542-428c-a52a-8d8ec8914bbf
X-WR-CALDESC:
X-WR-RELCALID:f454a67fb3b52793e56a0324a22c89de
X-WR-TIMEZONE:America/New_York
BEGIN:VTIMEZONE
TZID:America/New_York
BEGIN:STANDARD
TZNAME:EST
DTSTART:20241103T020000
TZOFFSETFROM:-0400
TZOFFSETTO:-0500
RDATE:20251102T020000
END:STANDARD
BEGIN:DAYLIGHT
TZNAME:EDT
DTSTART:20240310T020000
TZOFFSETFROM:-0500
TZOFFSETTO:-0400
RDATE:20250309T020000
RDATE:20260308T020000
END:DAYLIGHT
END:VTIMEZONE
BEGIN:VEVENT
UID:1d31dbef-2552-41f1-ba3d-12907f83a0de
DTSTAMP:20260422T121301Z
DESCRIPTION:
DTSTART;TZID=America/New_York:20241224T060000
DTEND;TZID=America/New_York:20241225T060001
LOCATION:
SUMMARY:Christmas Break
END:VEVENT
END:VCALENDAR
