BEGIN:VCALENDAR
VERSION:2.0
PRODID:-//adultdaycenter.org//NONSGML kigkonsult.se iCalcreator 2.30.10//
CALSCALE:GREGORIAN
METHOD:PUBLISH
UID:da71d169-2e10-4579-8087-652128fc8af6
X-WR-CALDESC:
X-WR-RELCALID:a80f121c06316667418ce4f01422bd1c
X-WR-TIMEZONE:America/New_York
BEGIN:VTIMEZONE
TZID:America/New_York
BEGIN:STANDARD
TZNAME:EST
DTSTART:20241103T020000
TZOFFSETFROM:-0400
TZOFFSETTO:-0500
RDATE:20251102T020000
END:STANDARD
BEGIN:DAYLIGHT
TZNAME:EDT
DTSTART:20240310T020000
TZOFFSETFROM:-0500
TZOFFSETTO:-0400
RDATE:20250309T020000
RDATE:20260308T020000
END:DAYLIGHT
END:VTIMEZONE
BEGIN:VEVENT
UID:4627f085-7e35-4f24-9562-6aca0d51b6e9
DTSTAMP:20260422T121728Z
DESCRIPTION:
DTSTART;TZID=America/New_York:20241231T060000
DTEND;TZID=America/New_York:20250101T060001
LOCATION:
SUMMARY:New Years Break
END:VEVENT
END:VCALENDAR
