BEGIN:VCALENDAR
VERSION:2.0
PRODID:-//adultdaycenter.org//NONSGML kigkonsult.se iCalcreator 2.30.10//
CALSCALE:GREGORIAN
METHOD:PUBLISH
UID:00713b37-1e33-431d-975a-54c7c0892e5d
X-WR-CALDESC:
X-WR-RELCALID:8bad02990ac29efa086c364afc911e09
X-WR-TIMEZONE:America/New_York
BEGIN:VTIMEZONE
TZID:America/New_York
BEGIN:STANDARD
TZNAME:EST
DTSTART:20241103T020000
TZOFFSETFROM:-0400
TZOFFSETTO:-0500
RDATE:20251102T020000
END:STANDARD
BEGIN:DAYLIGHT
TZNAME:EDT
DTSTART:20240310T020000
TZOFFSETFROM:-0500
TZOFFSETTO:-0400
RDATE:20250309T020000
RDATE:20260308T020000
END:DAYLIGHT
END:VTIMEZONE
BEGIN:VEVENT
UID:1c3c0075-3ecb-4770-9854-0a7d4609e7a4
DTSTAMP:20260422T103841Z
DESCRIPTION:
DTSTART;TZID=America/New_York:20250120T060000
DTEND;TZID=America/New_York:20250120T060001
LOCATION:
SUMMARY:Martin Luther King Jr. Day. ADC Closed.
END:VEVENT
END:VCALENDAR
