BEGIN:VCALENDAR
VERSION:2.0
PRODID:-//adultdaycenter.org//NONSGML kigkonsult.se iCalcreator 2.30.10//
CALSCALE:GREGORIAN
METHOD:PUBLISH
UID:1dc9d849-fd26-4773-b850-ea0210967407
X-WR-CALDESC:
X-WR-RELCALID:d81e5c847587ab45c39169bd3c38f4eb
X-WR-TIMEZONE:America/New_York
BEGIN:VTIMEZONE
TZID:America/New_York
BEGIN:STANDARD
TZNAME:EST
DTSTART:20241103T020000
TZOFFSETFROM:-0400
TZOFFSETTO:-0500
RDATE:20251102T020000
END:STANDARD
BEGIN:DAYLIGHT
TZNAME:EDT
DTSTART:20240310T020000
TZOFFSETFROM:-0500
TZOFFSETTO:-0400
RDATE:20250309T020000
RDATE:20260308T020000
END:DAYLIGHT
END:VTIMEZONE
BEGIN:VEVENT
UID:4df14459-7d6f-4eca-9af9-0c9fe65761ba
DTSTAMP:20260422T091653Z
DESCRIPTION:
DTSTART;TZID=America/New_York:20250217T060000
DTEND;TZID=America/New_York:20250217T060001
LOCATION:
SUMMARY:Presidents Day. ADC Closed.
END:VEVENT
END:VCALENDAR
