BEGIN:VCALENDAR
VERSION:2.0
PRODID:-//adultdaycenter.org//NONSGML kigkonsult.se iCalcreator 2.30.10//
CALSCALE:GREGORIAN
METHOD:PUBLISH
UID:0d08fa75-a39b-40fc-b055-4670e16ee346
X-WR-CALDESC:
X-WR-RELCALID:2225285b06eaef38881e880f93ccce41
X-WR-TIMEZONE:America/New_York
BEGIN:VTIMEZONE
TZID:America/New_York
BEGIN:STANDARD
TZNAME:EST
DTSTART:20241103T020000
TZOFFSETFROM:-0400
TZOFFSETTO:-0500
RDATE:20251102T020000
END:STANDARD
BEGIN:DAYLIGHT
TZNAME:EDT
DTSTART:20250309T020000
TZOFFSETFROM:-0500
TZOFFSETTO:-0400
RDATE:20260308T020000
END:DAYLIGHT
END:VTIMEZONE
BEGIN:VEVENT
UID:516b1242-c9d5-4e41-815b-b2d00b2e8b55
DTSTAMP:20260422T054120Z
DESCRIPTION:
DTSTART;TZID=America/New_York:20250418T060000
DTEND;TZID=America/New_York:20250418T060001
LOCATION:
SUMMARY:Good Friday. ADC Closed.
END:VEVENT
END:VCALENDAR
