BEGIN:VCALENDAR
VERSION:2.0
PRODID:-//adultdaycenter.org//NONSGML kigkonsult.se iCalcreator 2.30.10//
CALSCALE:GREGORIAN
METHOD:PUBLISH
UID:a2210c0b-523c-452d-9107-d83c907084d4
X-WR-CALDESC:
X-WR-RELCALID:1086ce9537e2302eb1de99fc0b227969
X-WR-TIMEZONE:America/New_York
BEGIN:VTIMEZONE
TZID:America/New_York
BEGIN:STANDARD
TZNAME:EST
DTSTART:20241103T020000
TZOFFSETFROM:-0400
TZOFFSETTO:-0500
RDATE:20251102T020000
RDATE:20261101T020000
END:STANDARD
BEGIN:DAYLIGHT
TZNAME:EDT
DTSTART:20250309T020000
TZOFFSETFROM:-0500
TZOFFSETTO:-0400
RDATE:20260308T020000
END:DAYLIGHT
END:VTIMEZONE
BEGIN:VEVENT
UID:db2c73c4-9547-49b6-8b83-dcf20367805c
DTSTAMP:20260422T033008Z
DESCRIPTION:
DTSTART;TZID=America/New_York:20250526T060000
DTEND;TZID=America/New_York:20250526T060001
LOCATION:
SUMMARY:Memorial Day. ADC Closed.
END:VEVENT
END:VCALENDAR
