BEGIN:VCALENDAR
VERSION:2.0
PRODID:-//adultdaycenter.org//NONSGML kigkonsult.se iCalcreator 2.30.10//
CALSCALE:GREGORIAN
METHOD:PUBLISH
UID:3193a78f-0b68-4367-b085-e91ad5582af3
X-WR-CALDESC:
X-WR-RELCALID:1ce210c90f51f9ecf2a5aaab78a85f18
X-WR-TIMEZONE:America/New_York
BEGIN:VTIMEZONE
TZID:America/New_York
BEGIN:STANDARD
TZNAME:EST
DTSTART:20241103T020000
TZOFFSETFROM:-0400
TZOFFSETTO:-0500
RDATE:20251102T020000
RDATE:20261101T020000
END:STANDARD
BEGIN:DAYLIGHT
TZNAME:EDT
DTSTART:20250309T020000
TZOFFSETFROM:-0500
TZOFFSETTO:-0400
RDATE:20260308T020000
END:DAYLIGHT
END:VTIMEZONE
BEGIN:VEVENT
UID:9e139d3a-d875-46b9-9891-657279fb9b48
DTSTAMP:20260422T015240Z
DESCRIPTION:
DTSTART;TZID=America/New_York:20250612T183000
DTEND;TZID=America/New_York:20250612T213000
LOCATION:747 State Route 28\, Bridgewater\, NJ 08807 US
SUMMARY:Getting Better with Age Wine Tasting Fundraiser
END:VEVENT
END:VCALENDAR
