BEGIN:VCALENDAR
VERSION:2.0
PRODID:-//adultdaycenter.org//NONSGML kigkonsult.se iCalcreator 2.30.10//
CALSCALE:GREGORIAN
METHOD:PUBLISH
UID:81d4ee63-bd3b-4047-b0c6-7887aa98ce18
X-WR-CALDESC:
X-WR-RELCALID:0c64d5781f5e669e5d16f8924f4698b4
X-WR-TIMEZONE:America/New_York
BEGIN:VTIMEZONE
TZID:America/New_York
BEGIN:STANDARD
TZNAME:EST
DTSTART:20241103T020000
TZOFFSETFROM:-0400
TZOFFSETTO:-0500
RDATE:20251102T020000
RDATE:20261101T020000
END:STANDARD
BEGIN:DAYLIGHT
TZNAME:EDT
DTSTART:20250309T020000
TZOFFSETFROM:-0500
TZOFFSETTO:-0400
RDATE:20260308T020000
END:DAYLIGHT
END:VTIMEZONE
BEGIN:VEVENT
UID:9567189d-5567-4e9d-ac7d-f7132ad91905
DTSTAMP:20260422T015403Z
DESCRIPTION:
DTSTART;TZID=America/New_York:20250620T060000
DTEND;TZID=America/New_York:20250620T060001
LOCATION:
SUMMARY:Juneteenth. ADC Closed.
END:VEVENT
END:VCALENDAR
