BEGIN:VCALENDAR
VERSION:2.0
PRODID:-//adultdaycenter.org//NONSGML kigkonsult.se iCalcreator 2.30.10//
CALSCALE:GREGORIAN
METHOD:PUBLISH
UID:3994d7d6-bfbf-4597-b3ee-ce7f79039b82
X-WR-CALDESC:
X-WR-RELCALID:f7d288beec8a7d7c447d76daf728f28b
X-WR-TIMEZONE:America/New_York
BEGIN:VTIMEZONE
TZID:America/New_York
BEGIN:STANDARD
TZNAME:EST
DTSTART:20241103T020000
TZOFFSETFROM:-0400
TZOFFSETTO:-0500
RDATE:20251102T020000
RDATE:20261101T020000
END:STANDARD
BEGIN:DAYLIGHT
TZNAME:EDT
DTSTART:20250309T020000
TZOFFSETFROM:-0500
TZOFFSETTO:-0400
RDATE:20260308T020000
END:DAYLIGHT
END:VTIMEZONE
BEGIN:VEVENT
UID:215984b0-74e1-45d1-8dd3-ee59fe9d5cdb
DTSTAMP:20260422T000316Z
DESCRIPTION:
DTSTART;TZID=America/New_York:20250704T060000
DTEND;TZID=America/New_York:20250704T060001
LOCATION:
SUMMARY:Independence Day. ADC Closed.
END:VEVENT
END:VCALENDAR
