BEGIN:VCALENDAR
VERSION:2.0
PRODID:-//adultdaycenter.org//NONSGML kigkonsult.se iCalcreator 2.30.10//
CALSCALE:GREGORIAN
METHOD:PUBLISH
UID:1340705d-f098-4e7d-8506-3421eacde2ca
X-WR-CALDESC:
X-WR-RELCALID:e632dd2ea36dda323833ce6c0766bb91
X-WR-TIMEZONE:America/New_York
BEGIN:VTIMEZONE
TZID:America/New_York
BEGIN:STANDARD
TZNAME:EST
DTSTART:20241103T020000
TZOFFSETFROM:-0400
TZOFFSETTO:-0500
RDATE:20251102T020000
RDATE:20261101T020000
END:STANDARD
BEGIN:DAYLIGHT
TZNAME:EDT
DTSTART:20250309T020000
TZOFFSETFROM:-0500
TZOFFSETTO:-0400
RDATE:20260308T020000
RDATE:20270314T020000
END:DAYLIGHT
END:VTIMEZONE
BEGIN:VEVENT
UID:0aed96f2-e013-4604-8d21-eaca7dacfd97
DTSTAMP:20260421T190639Z
DESCRIPTION:
DTSTART;TZID=America/New_York:20251013T060000
DTEND;TZID=America/New_York:20251013T060001
LOCATION:
SUMMARY:Columbus Day. ADC Closed.
END:VEVENT
END:VCALENDAR
