BEGIN:VCALENDAR
VERSION:2.0
PRODID:-//adultdaycenter.org//NONSGML kigkonsult.se iCalcreator 2.30.10//
CALSCALE:GREGORIAN
METHOD:PUBLISH
UID:8d5326d9-1152-433f-8451-e1df4006c3f1
X-WR-CALDESC:
X-WR-RELCALID:7acc40889fcc97501ed2036cee69e4fb
X-WR-TIMEZONE:America/New_York
BEGIN:VTIMEZONE
TZID:America/New_York
BEGIN:STANDARD
TZNAME:EST
DTSTART:20241103T020000
TZOFFSETFROM:-0400
TZOFFSETTO:-0500
RDATE:20251102T020000
RDATE:20261101T020000
END:STANDARD
BEGIN:DAYLIGHT
TZNAME:EDT
DTSTART:20250309T020000
TZOFFSETFROM:-0500
TZOFFSETTO:-0400
RDATE:20260308T020000
RDATE:20270314T020000
END:DAYLIGHT
END:VTIMEZONE
BEGIN:VEVENT
UID:e351bef9-7dd4-4d25-9b12-231ac4d07d17
DTSTAMP:20260421T190147Z
DESCRIPTION:
DTSTART;TZID=America/New_York:20251028T180000
DTEND;TZID=America/New_York:20251028T220000
LOCATION:333 Davidson Avenue\, Somerset\, NJ 08873 US
SUMMARY:Generations Gala
END:VEVENT
END:VCALENDAR
