BEGIN:VCALENDAR
VERSION:2.0
PRODID:-//adultdaycenter.org//NONSGML kigkonsult.se iCalcreator 2.30.10//
CALSCALE:GREGORIAN
METHOD:PUBLISH
UID:c5927e5d-5f90-438c-a04c-1c5fd114b100
X-WR-CALDESC:
X-WR-RELCALID:0a9bbe025d5f1068e8ed609eb8a505f5
X-WR-TIMEZONE:America/New_York
BEGIN:VTIMEZONE
TZID:America/New_York
BEGIN:STANDARD
TZNAME:EST
DTSTART:20251102T020000
TZOFFSETFROM:-0400
TZOFFSETTO:-0500
RDATE:20261101T020000
END:STANDARD
BEGIN:DAYLIGHT
TZNAME:EDT
DTSTART:20250309T020000
TZOFFSETFROM:-0500
TZOFFSETTO:-0400
RDATE:20260308T020000
RDATE:20270314T020000
END:DAYLIGHT
END:VTIMEZONE
BEGIN:VEVENT
UID:c9ed5b43-be19-4da5-ab48-c1843f536bab
DTSTAMP:20260421T154247Z
DESCRIPTION:
DTSTART;TZID=America/New_York:20251231T060000
DTEND;TZID=America/New_York:20260101T060001
LOCATION:
SUMMARY:New Years Break
END:VEVENT
END:VCALENDAR
