BEGIN:VCALENDAR
VERSION:2.0
PRODID:-//adultdaycenter.org//NONSGML kigkonsult.se iCalcreator 2.30.10//
CALSCALE:GREGORIAN
METHOD:PUBLISH
UID:5458576c-20d5-4eec-9867-7e1c6a4716cb
X-WR-CALDESC:Please call the Center at 908-725-0068 to sign up to our month
 ly support group.
X-WR-RELCALID:9965821601f3c9b89ffa0521674ef0a6
X-WR-TIMEZONE:America/New_York
BEGIN:VTIMEZONE
TZID:America/New_York
BEGIN:STANDARD
TZNAME:EST
DTSTART:20251102T020000
TZOFFSETFROM:-0400
TZOFFSETTO:-0500
RDATE:20261101T020000
END:STANDARD
BEGIN:DAYLIGHT
TZNAME:EDT
DTSTART:20250309T020000
TZOFFSETFROM:-0500
TZOFFSETTO:-0400
RDATE:20260308T020000
RDATE:20270314T020000
END:DAYLIGHT
END:VTIMEZONE
BEGIN:VEVENT
UID:6ca7c382-a2fe-475d-a9c2-7c6b58720f65
DTSTAMP:20260421T133221Z
DESCRIPTION:Please call the Center at 908-725-0068 to sign up to our monthl
 y support group.
DTSTART;TZID=America/New_York:20260110T090000
DTEND;TZID=America/New_York:20260110T130000
LOCATION:
SUMMARY:Caregiver Support Group
END:VEVENT
END:VCALENDAR
