BEGIN:VCALENDAR
VERSION:2.0
PRODID:-//adultdaycenter.org//NONSGML kigkonsult.se iCalcreator 2.30.10//
CALSCALE:GREGORIAN
METHOD:PUBLISH
UID:3105082a-eab9-4968-af25-0baa30e70a12
X-WR-CALDESC:
X-WR-RELCALID:65f02a9d5026652891cb53f4f9f55f98
X-WR-TIMEZONE:America/New_York
BEGIN:VTIMEZONE
TZID:America/New_York
BEGIN:STANDARD
TZNAME:EST
DTSTART:20251102T020000
TZOFFSETFROM:-0400
TZOFFSETTO:-0500
RDATE:20261101T020000
END:STANDARD
BEGIN:DAYLIGHT
TZNAME:EDT
DTSTART:20250309T020000
TZOFFSETFROM:-0500
TZOFFSETTO:-0400
RDATE:20260308T020000
RDATE:20270314T020000
END:DAYLIGHT
END:VTIMEZONE
BEGIN:VEVENT
UID:4ae199eb-80f9-4fed-a77e-155096d6061d
DTSTAMP:20260421T131602Z
DESCRIPTION:
DTSTART;TZID=America/New_York:20260119T000000
DTEND;TZID=America/New_York:20260120T000000
LOCATION:872 East Main Street\, Bridgewater\, NJ 08807 US
SUMMARY:Martin Luther King Jr. Day ADC Closed
END:VEVENT
END:VCALENDAR
