BEGIN:VCALENDAR
VERSION:2.0
PRODID:-//adultdaycenter.org//NONSGML kigkonsult.se iCalcreator 2.30.10//
CALSCALE:GREGORIAN
METHOD:PUBLISH
UID:e8c888e4-da5d-4481-90cd-27579c9cd085
X-WR-CALDESC:
X-WR-RELCALID:2cc8762a7e98b70b24c3daa8bd6da478
X-WR-TIMEZONE:America/New_York
BEGIN:VTIMEZONE
TZID:America/New_York
BEGIN:STANDARD
TZNAME:EST
DTSTART:20251102T020000
TZOFFSETFROM:-0400
TZOFFSETTO:-0500
RDATE:20261101T020000
END:STANDARD
BEGIN:DAYLIGHT
TZNAME:EDT
DTSTART:20250309T020000
TZOFFSETFROM:-0500
TZOFFSETTO:-0400
RDATE:20260308T020000
RDATE:20270314T020000
END:DAYLIGHT
END:VTIMEZONE
BEGIN:VEVENT
UID:038f6cdf-0328-4e00-8a02-d7ce63fb0f37
DTSTAMP:20260421T114352Z
DESCRIPTION:
DTSTART;TZID=America/New_York:20260216T000000
DTEND;TZID=America/New_York:20260217T000000
LOCATION:
SUMMARY:President's Day ADC Closed
END:VEVENT
END:VCALENDAR
