BEGIN:VCALENDAR
VERSION:2.0
PRODID:-//adultdaycenter.org//NONSGML kigkonsult.se iCalcreator 2.30.10//
CALSCALE:GREGORIAN
METHOD:PUBLISH
UID:4a748d7e-6211-47e0-b15d-c2e08be8c767
X-WR-CALDESC:Please call the Center at 908-725-0068 to sign up to our month
 ly support group.
X-WR-RELCALID:118dc4d6c7d3a36033cfad33a316bcba
X-WR-TIMEZONE:America/New_York
BEGIN:VTIMEZONE
TZID:America/New_York
BEGIN:STANDARD
TZNAME:EST
DTSTART:20251102T020000
TZOFFSETFROM:-0400
TZOFFSETTO:-0500
RDATE:20261101T020000
END:STANDARD
BEGIN:DAYLIGHT
TZNAME:EDT
DTSTART:20260308T020000
TZOFFSETFROM:-0500
TZOFFSETTO:-0400
RDATE:20270314T020000
END:DAYLIGHT
END:VTIMEZONE
BEGIN:VEVENT
UID:a50b0f93-c0c2-4492-b384-ac29d35e872c
DTSTAMP:20260421T101057Z
DESCRIPTION:Please call the Center at 908-725-0068 to sign up to our monthl
 y support group.
DTSTART;TZID=America/New_York:20260314T090000
DTEND;TZID=America/New_York:20260314T130000
LOCATION:
SUMMARY:Caregiver Support Group
END:VEVENT
END:VCALENDAR
