BEGIN:VCALENDAR
VERSION:2.0
PRODID:-//adultdaycenter.org//NONSGML kigkonsult.se iCalcreator 2.30.10//
CALSCALE:GREGORIAN
METHOD:PUBLISH
UID:324b1916-8c84-4bd6-8f6d-030578595c47
X-WR-CALDESC:Please call the Center at 908-725-0068 to sign up to our month
 ly support group.
X-WR-RELCALID:2a2769fc71a3cc1847c2afafb94eb759
X-WR-TIMEZONE:America/New_York
BEGIN:VTIMEZONE
TZID:America/New_York
BEGIN:STANDARD
TZNAME:EST
DTSTART:20251102T020000
TZOFFSETFROM:-0400
TZOFFSETTO:-0500
RDATE:20261101T020000
END:STANDARD
BEGIN:DAYLIGHT
TZNAME:EDT
DTSTART:20260308T020000
TZOFFSETFROM:-0500
TZOFFSETTO:-0400
RDATE:20270314T020000
END:DAYLIGHT
END:VTIMEZONE
BEGIN:VEVENT
UID:20d6ad8e-8848-4e71-9cd2-fa27790169ea
DTSTAMP:20260421T085627Z
DESCRIPTION:Please call the Center at 908-725-0068 to sign up to our monthl
 y support group.
DTSTART;TZID=America/New_York:20260411T090000
DTEND;TZID=America/New_York:20260411T130000
LOCATION:
SUMMARY:Caregiver Support Group
END:VEVENT
END:VCALENDAR
