BEGIN:VCALENDAR
VERSION:2.0
PRODID:-//adultdaycenter.org//NONSGML kigkonsult.se iCalcreator 2.30.10//
CALSCALE:GREGORIAN
METHOD:PUBLISH
UID:14c21467-f47a-48b2-b5b4-2481832c9a71
X-WR-CALDESC:
X-WR-RELCALID:f4b5e54172621cc3463fe2710012ed1c
X-WR-TIMEZONE:America/New_York
BEGIN:VTIMEZONE
TZID:America/New_York
BEGIN:STANDARD
TZNAME:EST
DTSTART:20251102T020000
TZOFFSETFROM:-0400
TZOFFSETTO:-0500
RDATE:20261101T020000
RDATE:20271107T020000
END:STANDARD
BEGIN:DAYLIGHT
TZNAME:EDT
DTSTART:20260308T020000
TZOFFSETFROM:-0500
TZOFFSETTO:-0400
RDATE:20270314T020000
END:DAYLIGHT
END:VTIMEZONE
BEGIN:VEVENT
UID:f605a8a4-2c0b-4cd7-a534-7d9294b4b7da
DTSTAMP:20260421T132538Z
DESCRIPTION:
DTSTART;TZID=America/New_York:20260525T000000
DTEND;TZID=America/New_York:20260526T000000
LOCATION:
SUMMARY:Memorial Day ADC Closed
END:VEVENT
END:VCALENDAR
