BEGIN:VCALENDAR
VERSION:2.0
PRODID:-//adultdaycenter.org//NONSGML kigkonsult.se iCalcreator 2.30.10//
CALSCALE:GREGORIAN
METHOD:PUBLISH
UID:834b7f04-5433-46bf-afee-2cbeebec9675
X-WR-CALDESC:
X-WR-RELCALID:b9ccf698ed91f9bd0e49677fe87b30f4
X-WR-TIMEZONE:America/New_York
BEGIN:VTIMEZONE
TZID:America/New_York
BEGIN:STANDARD
TZNAME:EST
DTSTART:20251102T020000
TZOFFSETFROM:-0400
TZOFFSETTO:-0500
RDATE:20261101T020000
RDATE:20271107T020000
END:STANDARD
BEGIN:DAYLIGHT
TZNAME:EDT
DTSTART:20260308T020000
TZOFFSETFROM:-0500
TZOFFSETTO:-0400
RDATE:20270314T020000
END:DAYLIGHT
END:VTIMEZONE
BEGIN:VEVENT
UID:8c386816-fbbc-45cd-ad21-b5db2473eccc
DTSTAMP:20260421T153302Z
DESCRIPTION:
DTSTART;TZID=America/New_York:20260610T180000
DTEND;TZID=America/New_York:20260610T213000
LOCATION:
SUMMARY:Getting Better with Age Wine Tasting Fundraiser
END:VEVENT
END:VCALENDAR
