BEGIN:VCALENDAR
VERSION:2.0
PRODID:-//adultdaycenter.org//NONSGML kigkonsult.se iCalcreator 2.30.10//
CALSCALE:GREGORIAN
METHOD:PUBLISH
UID:94a30cdb-323f-42b4-ad8e-a7fc242f4fd3
X-WR-CALDESC:Please call the Center at 908-725-0068 to sign up to our month
 ly support group.
X-WR-RELCALID:8f197291332f0ab3f95a21fb02752897
X-WR-TIMEZONE:America/New_York
BEGIN:VTIMEZONE
TZID:America/New_York
BEGIN:STANDARD
TZNAME:EST
DTSTART:20251102T020000
TZOFFSETFROM:-0400
TZOFFSETTO:-0500
RDATE:20261101T020000
RDATE:20271107T020000
END:STANDARD
BEGIN:DAYLIGHT
TZNAME:EDT
DTSTART:20260308T020000
TZOFFSETFROM:-0500
TZOFFSETTO:-0400
RDATE:20270314T020000
END:DAYLIGHT
END:VTIMEZONE
BEGIN:VEVENT
UID:583c8dda-ad6d-4e21-a2e9-812dbe969a5c
DTSTAMP:20260421T153318Z
DESCRIPTION:Please call the Center at 908-725-0068 to sign up to our monthl
 y support group.
DTSTART;TZID=America/New_York:20260613T090000
DTEND;TZID=America/New_York:20260613T130000
LOCATION:
SUMMARY:Caregiver Support Group
END:VEVENT
END:VCALENDAR
