BEGIN:VCALENDAR
VERSION:2.0
PRODID:-//adultdaycenter.org//NONSGML kigkonsult.se iCalcreator 2.30.10//
CALSCALE:GREGORIAN
METHOD:PUBLISH
UID:6912733d-dea3-4484-887f-d29853df6459
X-WR-CALDESC:
X-WR-RELCALID:ba8781a064c9dfc18f784e09de378c71
X-WR-TIMEZONE:America/New_York
BEGIN:VTIMEZONE
TZID:America/New_York
BEGIN:STANDARD
TZNAME:EST
DTSTART:20251102T020000
TZOFFSETFROM:-0400
TZOFFSETTO:-0500
RDATE:20261101T020000
RDATE:20271107T020000
END:STANDARD
BEGIN:DAYLIGHT
TZNAME:EDT
DTSTART:20260308T020000
TZOFFSETFROM:-0500
TZOFFSETTO:-0400
RDATE:20270314T020000
END:DAYLIGHT
END:VTIMEZONE
BEGIN:VEVENT
UID:d1dcdfc0-3d17-4d73-97d7-7fa28b9d63f6
DTSTAMP:20260421T190925Z
DESCRIPTION:
DTSTART;TZID=America/New_York:20260619T000000
DTEND;TZID=America/New_York:20260620T000000
LOCATION:
SUMMARY:Juneteenth ADC Closed
END:VEVENT
END:VCALENDAR
