BEGIN:VCALENDAR
VERSION:2.0
PRODID:-//adultdaycenter.org//NONSGML kigkonsult.se iCalcreator 2.30.10//
CALSCALE:GREGORIAN
METHOD:PUBLISH
UID:280546de-b601-4008-a047-f4f408f2f2f5
X-WR-CALDESC:
X-WR-RELCALID:8e4e3d0835cd94da72e6f878b6c28da9
X-WR-TIMEZONE:America/New_York
BEGIN:VTIMEZONE
TZID:America/New_York
BEGIN:STANDARD
TZNAME:EST
DTSTART:20251102T020000
TZOFFSETFROM:-0400
TZOFFSETTO:-0500
RDATE:20261101T020000
RDATE:20271107T020000
END:STANDARD
BEGIN:DAYLIGHT
TZNAME:EDT
DTSTART:20260308T020000
TZOFFSETFROM:-0500
TZOFFSETTO:-0400
RDATE:20270314T020000
END:DAYLIGHT
END:VTIMEZONE
BEGIN:VEVENT
UID:420d6950-9df7-418d-8e4d-b1be89f96b8a
DTSTAMP:20260421T171258Z
DESCRIPTION:
DTSTART;TZID=America/New_York:20260703T000000
DTEND;TZID=America/New_York:20260704T000000
LOCATION:
SUMMARY:Independence Day ADC Closed
END:VEVENT
END:VCALENDAR
