BEGIN:VCALENDAR
VERSION:2.0
PRODID:-//adultdaycenter.org//NONSGML kigkonsult.se iCalcreator 2.30.10//
CALSCALE:GREGORIAN
METHOD:PUBLISH
UID:19167f84-d6dd-4679-9a85-be53f3b8dd3a
X-WR-CALDESC:
X-WR-RELCALID:b451f263ffb1dbdcecc9cc220a2d096b
X-WR-TIMEZONE:America/New_York
BEGIN:VTIMEZONE
TZID:America/New_York
BEGIN:STANDARD
TZNAME:EST
DTSTART:20251102T020000
TZOFFSETFROM:-0400
TZOFFSETTO:-0500
RDATE:20261101T020000
RDATE:20271107T020000
END:STANDARD
BEGIN:DAYLIGHT
TZNAME:EDT
DTSTART:20260308T020000
TZOFFSETFROM:-0500
TZOFFSETTO:-0400
RDATE:20270314T020000
END:DAYLIGHT
END:VTIMEZONE
BEGIN:VEVENT
UID:892eb5ff-bc5d-4292-a530-7850f3de82c5
DTSTAMP:20260421T202059Z
DESCRIPTION:
DTSTART;TZID=America/New_York:20260907T000000
DTEND;TZID=America/New_York:20260908T000000
LOCATION:
SUMMARY:Labor Day ADC Closed
END:VEVENT
END:VCALENDAR
