BEGIN:VCALENDAR
VERSION:2.0
PRODID:-//adultdaycenter.org//NONSGML kigkonsult.se iCalcreator 2.30.10//
CALSCALE:GREGORIAN
METHOD:PUBLISH
UID:11c499c9-d49d-45e5-8aa7-162b31de5d60
X-WR-CALDESC:Please call the Center at 908-725-0068 to sign up to our month
 ly support group.
X-WR-RELCALID:7487d5959a32daa4593734750723c8d1
X-WR-TIMEZONE:America/New_York
BEGIN:VTIMEZONE
TZID:America/New_York
BEGIN:STANDARD
TZNAME:EST
DTSTART:20251102T020000
TZOFFSETFROM:-0400
TZOFFSETTO:-0500
RDATE:20261101T020000
RDATE:20271107T020000
END:STANDARD
BEGIN:DAYLIGHT
TZNAME:EDT
DTSTART:20260308T020000
TZOFFSETFROM:-0500
TZOFFSETTO:-0400
RDATE:20270314T020000
RDATE:20280312T020000
END:DAYLIGHT
END:VTIMEZONE
BEGIN:VEVENT
UID:4ea2b62b-b4cf-4601-9e06-3e83aa2decb0
DTSTAMP:20260421T221616Z
DESCRIPTION:Please call the Center at 908-725-0068 to sign up to our monthl
 y support group.
DTSTART;TZID=America/New_York:20261017T090000
DTEND;TZID=America/New_York:20261017T130000
LOCATION:
SUMMARY:Caregiver Support Group
END:VEVENT
END:VCALENDAR
