BEGIN:VCALENDAR
VERSION:2.0
PRODID:-//adultdaycenter.org//NONSGML kigkonsult.se iCalcreator 2.30.10//
CALSCALE:GREGORIAN
METHOD:PUBLISH
UID:0f462794-5897-4d3e-bbf7-0c4ad02e2335
X-WR-CALDESC:
X-WR-RELCALID:b38809d602a30d1c2e9786e6ea2548bc
X-WR-TIMEZONE:America/New_York
BEGIN:VTIMEZONE
TZID:America/New_York
BEGIN:STANDARD
TZNAME:EST
DTSTART:20261101T020000
TZOFFSETFROM:-0400
TZOFFSETTO:-0500
RDATE:20271107T020000
END:STANDARD
BEGIN:DAYLIGHT
TZNAME:EDT
DTSTART:20260308T020000
TZOFFSETFROM:-0500
TZOFFSETTO:-0400
RDATE:20270314T020000
RDATE:20280312T020000
END:DAYLIGHT
END:VTIMEZONE
BEGIN:VEVENT
UID:2c93dfb7-c189-4aa5-af92-f0ae2d19dd86
DTSTAMP:20260421T234239Z
DESCRIPTION:
DTSTART;TZID=America/New_York:20261111T000000
DTEND;TZID=America/New_York:20261112T000000
LOCATION:
SUMMARY:Veteran's Day ADC Closed
END:VEVENT
END:VCALENDAR
