BEGIN:VCALENDAR
VERSION:2.0
PRODID:-//adultdaycenter.org//NONSGML kigkonsult.se iCalcreator 2.30.10//
CALSCALE:GREGORIAN
METHOD:PUBLISH
UID:438ee7b9-9e78-4bc4-a9fb-af3443387f01
X-WR-CALDESC:
X-WR-RELCALID:0532d288161ca9b23f4791ff0e8b15ae
X-WR-TIMEZONE:America/New_York
BEGIN:VTIMEZONE
TZID:America/New_York
BEGIN:STANDARD
TZNAME:EST
DTSTART:20261101T020000
TZOFFSETFROM:-0400
TZOFFSETTO:-0500
RDATE:20271107T020000
END:STANDARD
BEGIN:DAYLIGHT
TZNAME:EDT
DTSTART:20260308T020000
TZOFFSETFROM:-0500
TZOFFSETTO:-0400
RDATE:20270314T020000
RDATE:20280312T020000
END:DAYLIGHT
END:VTIMEZONE
BEGIN:VEVENT
UID:bc6747d2-f8c6-488f-b06b-c80fc6853896
DTSTAMP:20260422T012227Z
DESCRIPTION:
DTSTART;TZID=America/New_York:20261224T060000
DTEND;TZID=America/New_York:20261225T060001
LOCATION:
SUMMARY:Christmas Break
END:VEVENT
END:VCALENDAR
