BEGIN:VCALENDAR
VERSION:2.0
PRODID:-//adultdaycenter.org//NONSGML kigkonsult.se iCalcreator 2.30.10//
CALSCALE:GREGORIAN
METHOD:PUBLISH
UID:472cc90a-b696-48ea-8506-c432d19f2045
X-WR-CALDESC:
X-WR-RELCALID:7b17b139c4a45de08e2d2ab70eb9912c
X-WR-TIMEZONE:America/New_York
BEGIN:VTIMEZONE
TZID:America/New_York
BEGIN:STANDARD
TZNAME:EST
DTSTART:20261101T020000
TZOFFSETFROM:-0400
TZOFFSETTO:-0500
RDATE:20271107T020000
END:STANDARD
BEGIN:DAYLIGHT
TZNAME:EDT
DTSTART:20260308T020000
TZOFFSETFROM:-0500
TZOFFSETTO:-0400
RDATE:20270314T020000
RDATE:20280312T020000
END:DAYLIGHT
END:VTIMEZONE
BEGIN:VEVENT
UID:62ee1951-8d68-44fe-be7f-deaf6c02e04f
DTSTAMP:20260422T012319Z
DESCRIPTION:
DTSTART;TZID=America/New_York:20261231T060000
DTEND;TZID=America/New_York:20270101T060001
LOCATION:
SUMMARY:New Years Break
END:VEVENT
END:VCALENDAR
